Workbook

Sheet Proposed Budget 2019
A1: ARIZONA STATE CAPITOL CHAPTER OF NIGP
A2: 2019 Proposed Budget
D5: Income | F5: Expense | H5: Net | J5: Proposed Budget
B7: Career Seminars
C8: 1st - March 12, 2019 | D8: 0 | F8: 3000 | H8: =D8-F8 -> -3000 | J8: -3000
C9: 2nd - August 13, 2019 | D9: 2000 | F9: 2500 | H9: =D9-F9 -> -500 | J9: -500
C10: Total | D10: =SUM(D8:D9) -> 2000 | F10: =SUM(F8:F9) -> 5500 | H10: =D10-F10 -> -3500 | J10: =SUM(J8:J9) -> -3500
B12: Chapter Luncheons
C13: 1st - January 15, 2019 | D13: 750 | F13: 1500 | H13: =D13-F13 -> -750 | J13: -750
C14: 2nd - May 14, 2019 | D14: 750 | F14: 1500 | H14: =D14-F14 -> -750 | J14: -750
C15: 3rd - September 10, 2019 | D15: 750 | F15: 1500 | H15: =D15-F15 -> -750 | J15: -750
C16: 4th - December 10, 2019 | D16: 1000 | F16: 4000 | H16: =D16-F16 -> -3000 | J16: -3000
C17: January 2020 Luncheon | D17: 200 | F17: 0 | H17: 200 | J17: 200
C18: Total | D18: =SUM(D13:D17) -> 3450 | F18: =SUM(F13:F17) -> 8500 | H18: =SUM(H13:H17) -> -5050 | J18: =SUM(J13:J17) -> -5050
B20: Professional Development Seminars
C21: 3 day Seminar - February 11-13, 2019 (Contract Administration) | D21: 1500 | F21: 350 | H21: =D21-F21 -> 1150 | J21: 1150
C22: 2 day Seminar - April 2019 | D22: 1000 | F22: 250 | H22: =D22-F22 -> 750 | J22: 750
C23: 1 day Seminar - May 2019 | D23: 500 | F23: 150 | H23: =D23-F23 -> 350 | J23: 350
C24: ABC's of RFP's or Negotiation Training | D24: 1200 | F24: 100 | H24: =D24-F24 -> 1100 | J24: 1100
C25: 2 day Seminar - September 2019 | D25: 1000 | F25: 250 | H25: =D25-F25 -> 750 | J25: 750
C26: 1 day Seminar - November 2019 | D26: 500 | F26: 150 | H26: =D26-F26 -> 350 | J26: 350
C27: CPPB/CPPO Review Sessions | D27: 0 | F27: 100 | H27: =D27-F27 -> -100 | J27: -100
C28: Total | D28: =SUM(D21:D27) -> 5700 | F28: =SUM(F21:F27) -> 1350 | H28: =SUM(H21:H27) -> 4350 | J28: =SUM(J21:J27) -> 4350
B30: Webinars / Lunch 'n' Learns
C31: 43564 | D31: 5 | F31: 0 | H31: =D31-F31 -> 5 | J31: 5
C32: 43627 | D32: 5 | F32: 0 | H32: =D32-F32 -> 5 | J32: 5
C33: 43781 | D33: 5 | F33: 0 | H33: =D33-F33 -> 5 | J33: 5
C34: Total | D34: =SUM(D31:D33) -> 15 | F34: =SUM(F31:F33) -> 0 | H34: =SUM(H31:H33) -> 15 | J34: =SUM(J31:J33) -> 15
B36: Events
C37: Leadership Symposium Feb 14-16, 2019. (2 officers) | D37: 0 | F37: 2500 | H37: =D37-F37 -> -2500 | J37: =H37 -> -2500
C38: Reverse Trade Show (Buckeye) - April | D38: 5000 | F38: 5000 | H38: =D38-F38 -> 0 | J38: =H38 -> 0
C39: Charity Sponsorships (P.F. Chang's/Pat's Run) | D39: 0 | F39: 500 | H39: =D39-F39 -> -500 | J39: -500
C40: Regional Conference - October 29, 2019 | D40: 75000 | F40: 60000 | H40: =D40-F40 -> 15000 | J40: 15000
C41: Buyer/Manager of the Year - Award /Nat'l Forum | D41: 0 | F41: 6000 | H41: =D41-F41 -> -6000 | J41: =H41 -> -6000
C42: National Conference Attendance (2 Officers) | D42: 0 | F42: 6000 | H42: =D42-F42 -> -6000 | J42: -6000
C43: National Conf. Attendance for Immediate Past President (if applicable) | D43: 0 | F43: 3000 | H43: =D43-F43 -> -3000 | J43: =H43 -> -3000
C44: National Forum - President's dinner | D44: 0 | F44: 2000 | H44: =D44-F44 -> -2000 | J44: =H44 -> -2000
C45: Transitional Board Meeting - Dec 10, 2019 | D45: 0 | F45: 2000 | H45: =D45-F45 -> -2000 | J45: =H45 -> -2000
C46: Total | D46: =SUM(D37:D45) -> 80000 | F46: =SUM(F37:F45) -> 87000 | H46: =SUM(H37:H45) -> -7000 | J46: =SUM(J37:J45) -> -7000
B48: Other Income / Expenses
...

Sheet YTD 19
A1: ARIZONA STATE CAPITOL CHAPTER OF NIGP
A2: 43466
D5: Income | F5: Expense | H5: Net | J5: Proposed Budget | K5: Balance
A6: Beginning Balance | K6: ='Proposed Budget 2019'!#REF! -> #REF!
B8: Career Seminars
C9: 1st - March 14, 2017 | H9: =D9-F9 -> 0 | J9: -1500
C10: 2nd - August 8, 2017 | H10: =D10-F10 -> 0 | J10: -1500
C11: Total | D11: =SUM(D9:D10) -> 0 | F11: =SUM(F9:F10) -> 0 | H11: =D11-F11 -> 0 | J11: =SUM(J9:J10) -> -3000
B13: Chapter Luncheons
C14: 1st - January 10, 2017 | H14: =D14-F14 -> 0 | J14: -300
C15: 2nd - May 9, 2017 | H15: =D15-F15 -> 0 | J15: -800
C16: 3rd - September 12, 2017 | H16: =D16-F16 -> 0 | J16: -1100
C17: 4th - December 12, 2017 | H17: =D17-F17 -> 0 | J17: -2000
C18: January 2018 Luncheon | H18: =D18-F18 -> 0 | J18: 0
C19: Total | D19: =SUM(D14:D18) -> 0 | F19: =SUM(F14:F18) -> 0 | H19: =SUM(H14:H18) -> 0 | J19: =SUM(J14:J18) -> -4200
B21: Professional Development Seminars
C22: 2 day Seminar - February 27-28, 2017 | H22: =D22-F22 -> 0 | J22: 200
C23: 1 day Seminar - April 4, 2017 | H23: =D23-F23 -> 0 | J23: 900
C24: 3 day Seminar - May 15-17, 2017 | H24: =D24-F24 -> 0 | J24: 1000
C25: ABC's of RFP's - June 19, 2017 | H25: =D25-F25 -> 0 | J25: 440
C26: 2 day Seminar - September 18-19, 2017 | H26: =D26-F26 -> 0 | J26: 200
C27: 1 day Seminar - November , 2017 | H27: =D27-F27 -> 0 | J27: 600
C28: CPPB/CPPO Review Sessions | D28: 0 | H28: =D28-F28 -> 0 | J28: =D28 -> 0
C29: Total | D29: =SUM(D24:D28) -> 0 | F29: =SUM(F24:F28) -> 0 | H29: =SUM(H24:H28) -> 0 | J29: =SUM(J24:J28) -> 2240
B31: Programs and Lunch 'N' Learns
C32: 42836 | F32: 0 | H32: =D32-F32 -> 0 | J32: 5
C33: 42899 | F33: 0 | H33: =D33-F33 -> 0 | J33: 5
C34: 43053 | F34: 0 | H34: =D34-F34 -> 0 | J34: 5
C35: Total | D35: =SUM(D32:D34) -> 0 | F35: =SUM(F32:F34) -> 0 | H35: =SUM(H32:H34) -> 0 | J35: =SUM(J32:J34) -> 15
B37: Events
C38: Leadership Symposium Feb 23-25, 2017 | H38: =D38-F38 -> 0 | J38: =H38 -> 0
C39: Reverse Trade Show - April 3, 2017 | H39: =D39-F39 -> 0 | J39: =H39 -> 0
C40: Charity Sponsorships (P.F. Chang's/Pat's Run) | H40: =D40-F40 -> 0 | J40: -900
C41: Regional Conference - October 19, 2017 | H41: =D41-F41 -> 0 | J41: -825
C42: Buyer/Manager of the Year - Award /Nat'l Forum | H42: =D42-F42 -> 0 | J42: =H42 -> 0
C43: National Conference Attendance (Officers) | H43: =D43-F43 -> 0 | J43: -5000
C44: National Conf. Attendance for Immediate Past President (if applicable) | H44: =D44-F44 -> 0 | J44: =H44 -> 0
C45: National Forum - President's dinner | H45: =D45-F45 -> 0 | J45: =H45 -> 0
C46: Transitional Board Meeting - Dec 13, 2017 | H46: =D46-F46 -> 0 | J46: =H46 -> 0
C47: Total | D47: =SUM(D38:D46) -> 0 | F47: =SUM(F38:F46) -> 0 | H47: =SUM(H38:H46) -> 0 | J47: =SUM(J38:J46) -> -6725
...

Sheet Jan 19
A1: ARIZONA STATE CAPITOL CHAPTER OF NIGP
A2: Treasurer's Report
A3: 43466
A6: Beginning Balance | H6: ='YTD 19'!K76 -> #REF!
C7: Checking Account
A8: Income Date: | C8: Received from | D8: Event | E8: Amount | F8: fees | G8: Total
D30: Subtotal: | E30: =SUM(E8:E29) -> 0 | F30: =SUM(F8:F29) -> 0 | G30: =SUM(G8:G29) -> 0
A32: Expenses Date | C32: Paid To | D32: Event | G32: Amount
D56: Subtotal: | G56: =SUM(G33:G55) -> 0
A58: Ending Balance | H58: =H6+G30-G56 -> #REF!

Sheet Feb 19
A1: ARIZONA STATE CAPITOL CHAPTER OF NIGP
A2: Treasurer's Report
A3: 43497
A6: Beginning Balance | H6: ='Jan 19'!H58 -> #REF!
C7: Checking Account
A8: Income Date: | C8: Received from | D8: Event | E8: Amount | F8: fees | G8: Total
D31: Subtotal: | E31: =SUM(E8:E30) -> 0 | F31: =SUM(F8:F30) -> 0 | G31: =SUM(G8:G30) -> 0
A33: Expenses Date | C33: Paid To | D33: Event | G33: Amount
D57: Subtotal: | G57: =SUM(G34:G56) -> 0
A59: Ending Balance | H59: =H6+G31-G57 -> #REF!

Sheet Mar 19
A1: ARIZONA STATE CAPITOL CHAPTER OF NIGP
A2: Treasurer's Report
A3: 43525
A6: Beginning Balance | H6: ='Feb 19'!H59 -> #REF!
C7: Checking Account
A8: Income Date: | C8: Received from | D8: Event | E8: Amount | F8: fees | G8: Total
D38: Subtotal: | E38: =SUM(E9:E37) -> 0 | F38: =SUM(F9:F37) -> 0 | G38: =SUM(G9:G37) -> 0
A40: Expenses Date | C40: Paid To | D40: Event | G40: Amount
D64: Subtotal: | G64: =SUM(G41:G63) -> 0
A66: Ending Balance | H66: =H6+G38-G64 -> #REF!

Sheet Apr 19
A1: ARIZONA STATE CAPITOL CHAPTER OF NIGP
A2: Treasurer's Report
A3: 43556
A6: Beginning Balance | H6: ='Mar 19'!H66 -> #REF!
C7: Checking Account
A8: Income Date: | C8: Received from | D8: Event | E8: Amount | F8: fees | G8: Total
D31: Subtotal: | E31: =SUM(E8:E30) -> 0 | F31: =SUM(F8:F30) -> 0 | G31: =SUM(G8:G30) -> 0
A33: Expenses Date | C33: Paid To | D33: Event | G33: Amount
D57: Subtotal: | G57: =SUM(G34:G56) -> 0
A59: Ending Balance | H59: =H6+G31-G57 -> #REF!

Sheet May 19
A1: ARIZONA STATE CAPITOL CHAPTER OF NIGP
A2: Treasurer's Report
A3: 43586
A6: Beginning Balance | H6: ='Apr 19'!H59 -> #REF!
C7: Checking Account
A8: Income Date: | C8: Received from | D8: Event | E8: Amount | F8: fees | G8: Total
D41: Subtotal: | E41: =SUM(E9:E40) -> 0 | F41: =SUM(F10:F40) -> 0 | G41: =SUM(G9:G40) -> 0
A43: Expenses Date | C43: Paid To | D43: Event | G43: Amount
D67: Subtotal: | G67: =SUM(G44:G66) -> 0
A69: Ending Balance | H69: =H6+G41-G67 -> #REF!

Sheet June 19
A1: ARIZONA STATE CAPITOL CHAPTER OF NIGP
A2: Treasurer's Report
A3: 43617
A5: Beginning Balance | H5: ='May 19'!H69 -> #REF!
C6: Checking Account
A7: Income Date: | C7: Received from | D7: Event | E7: Amount | F7: fees | G7: Total
D39: Subtotal: | E39: =SUM(E8:E38) -> 0 | F39: =SUM(F8:F38) -> 0 | G39: =SUM(G8:G38) -> 0
A41: Expenses Date | C41: Paid To | D41: Event | G41: Amount
D46: Subtotal: | G46: =SUM(G42:G45) -> 0
A48: Ending Balance | H48: =H5+G39-G46 -> #REF!

Sheet July 19
A1: ARIZONA STATE CAPITOL CHAPTER OF NIGP
A2: Treasurer's Report
A3: 43647
A6: Beginning Balance | H6: ='June 19'!H48 -> #REF!
C7: Checking Account
A8: Income Date: | C8: Received from | D8: Event | E8: Amount | F8: fees | G8: Total
D38: Subtotal: | E38: =SUM(E8:E37) -> 0 | F38: =SUM(F9:F37) -> 0 | G38: =SUM(G9:G37) -> 0
A40: Expenses Date | C40: Paid To | D40: Event | G40: Amount
D52: Subtotal: | G52: =SUM(G41:G51) -> 0
A54: Ending Balance | H54: =H6+G38-G52 -> #REF!

Sheet Aug 19
A1: ARIZONA STATE CAPITOL CHAPTER OF NIGP
A2: Treasurer's Report
A3: 43678
A6: Beginning Balance | H6: ='July 19'!H54 -> #REF!
C7: Checking Account
A8: Income Date: | C8: Received from | D8: Event | E8: Amount | F8: fees | G8: Total
D43: Subtotal: | E43: =SUM(E9:E42) -> 0 | F43: =SUM(F9:F42) -> 0 | G43: =SUM(G9:G42) -> 0
A45: Expenses Date | C45: Paid To | D45: Event | G45: Amount
D69: Subtotal: | G69: =SUM(G46:G68) -> 0
A71: Ending Balance | H71: =H6+G43-G69 -> #REF!

Sheet Sept 19
A1: ARIZONA STATE CAPITOL CHAPTER OF NIGP
A2: Treasurer's Report
A3: 43709
A6: Beginning Balance | H6: ='Aug 19'!H71 -> #REF!
C7: Checking Account
A8: Income Date: | C8: Received from | D8: Event | E8: Amount | F8: fees | G8: Total
D41: Subtotal: | E41: =SUM(E9:E40) -> 0 | F41: =SUM(F9:F40) -> 0 | G41: =SUM(G9:G40) -> 0
A43: Expenses Date | C43: Paid To | D43: Event | G43: Amount
D66: Subtotal: | G66: =SUM(G44:G65) -> 0
A68: Ending Balance | H68: =H6+G41-G66 -> #REF!

Sheet Oct 19
A1: ARIZONA STATE CAPITOL CHAPTER OF NIGP
A2: Treasurer's Report
A3: 43739
A6: Beginning Balance | H6: ='Sept 19'!H68 -> #REF!
C7: Checking Account
A8: Income Date: | C8: Received from | D8: Event | E8: Amount | F8: fees | G8: Total
D38: Subtotal: | E38: =SUM(E8:E37) -> 0 | F38: =SUM(F9:F37) -> 0 | G38: =SUM(G9:G37) -> 0
A40: Expenses Date | C40: Paid To | D40: Event | G40: Amount
D63: Subtotal: | G63: =SUM(G41:G62) -> 0
A65: Ending Balance | H65: =H6+G38-G63 -> #REF!

Sheet Nov 19
A1: ARIZONA STATE CAPITOL CHAPTER OF NIGP
A2: Treasurer's Report
A3: 43770
A6: Beginning Balance | H6: ='Oct 19'!H65 -> #REF!
C7: Checking Account
A8: Income Date: | C8: Received from | D8: Event | E8: Amount | F8: fees | G8: Total
D31: Subtotal: | E31: =SUM(E9:E30) -> 0 | F31: =SUM(F9:F30) -> 0 | G31: =SUM(G9:G30) -> 0
A33: Expenses Date | C33: Paid To | D33: Event | G33: Amount
D57: Subtotal: | G57: =SUM(G34:G56) -> 0
A59: Ending Balance | H59: =H6+G31-G57 -> #REF!

Sheet Dec 19
A1: ARIZONA STATE CAPITOL CHAPTER OF NIGP
A2: Treasurer's Report
A3: 43800
A6: Beginning Balance | H6: ='Nov 19'!H59 -> #REF!
C7: Checking Account
A8: Income Date: | C8: Received from | D8: Event | E8: Amount | F8: fees | G8: Total
D31: Subtotal: | E31: =SUM(E8:E30) -> 0 | F31: =SUM(F8:F30) -> 0 | G31: =SUM(G8:G30) -> 0
A33: Expenses Date | C33: Paid To | D33: Event | G33: Amount
D57: Subtotal: | G57: =SUM(G34:G56) -> 0
H58: =H6+G31-G57 -> #REF!
A59: Ending Balance

Sheet Sheet1
